BEGIN:VCALENDAR
VERSION:2.0
PRODID:-//ADHD UK | Events - ECPv6.15.20//NONSGML v1.0//EN
CALSCALE:GREGORIAN
METHOD:PUBLISH
X-WR-CALNAME:ADHD UK | Events
X-ORIGINAL-URL:https://events.adhduk.co.uk
X-WR-CALDESC:Events for ADHD UK | Events
REFRESH-INTERVAL;VALUE=DURATION:PT1H
X-Robots-Tag:noindex
X-PUBLISHED-TTL:PT1H
BEGIN:VTIMEZONE
TZID:Europe/London
BEGIN:DAYLIGHT
TZOFFSETFROM:+0000
TZOFFSETTO:+0100
TZNAME:BST
DTSTART:20250330T010000
END:DAYLIGHT
BEGIN:STANDARD
TZOFFSETFROM:+0100
TZOFFSETTO:+0000
TZNAME:GMT
DTSTART:20251026T010000
END:STANDARD
BEGIN:DAYLIGHT
TZOFFSETFROM:+0000
TZOFFSETTO:+0100
TZNAME:BST
DTSTART:20260329T010000
END:DAYLIGHT
BEGIN:STANDARD
TZOFFSETFROM:+0100
TZOFFSETTO:+0000
TZNAME:GMT
DTSTART:20261025T010000
END:STANDARD
BEGIN:DAYLIGHT
TZOFFSETFROM:+0000
TZOFFSETTO:+0100
TZNAME:BST
DTSTART:20270328T010000
END:DAYLIGHT
BEGIN:STANDARD
TZOFFSETFROM:+0100
TZOFFSETTO:+0000
TZNAME:GMT
DTSTART:20271031T010000
END:STANDARD
END:VTIMEZONE
BEGIN:VEVENT
DTSTART;TZID=Europe/London:20260417T160000
DTEND;TZID=Europe/London:20260417T170000
DTSTAMP:20260421T105338
CREATED:20251212T053646Z
LAST-MODIFIED:20251212T053646Z
UID:10002147-1776441600-1776445200@events.adhduk.co.uk
SUMMARY:Positive Mindset Coaching for ADHD - with Kathryn Wheatman
DESCRIPTION:Join this group to learn about positive mindset coaching for ADHD\, hosted by coach Kathryn Wheatman. \nWe receive no government funds. Fundraising is extremely difficult because of the economic climate and because of the discrimination and stigma that means many can’t be out and ask for fundraising sponsorship. That means any donation you give is extremely valued and is the only way we can do the work we do. \nWe ask for a donation regardless of size. Even 1p. With a suggested donation of £5.\n \nIf you are not in a position to donate then we still want to welcome you and have you attend. Simply put in the suggested donation and place the tickets in your basket\, generate your coupon here\, and use the coupon to 100% discount the basket.
URL:https://events.adhduk.co.uk/event/positive-mindset-coaching-for-adhd-with-kathryn-wheatman-4/
CATEGORIES:Positive Mindset Coaching
ATTACH;FMTTYPE=image/png:https://events.adhduk.co.uk/wp-content/uploads/2023/01/Helen-Unwin-2.png
ORGANIZER;CN="ADHD UK":MAILTO:hello@adhduk.co.uk
LOCATION:https://events.adhduk.co.uk/event/positive-mindset-coaching-for-adhd-with-kathryn-wheatman-4/
END:VEVENT
END:VCALENDAR